BEGIN:VCALENDAR
VERSION:2.0
PRODID:-//Rolling Hills Cheltenham - England - ECPv6.15.17.1//NONSGML v1.0//EN
CALSCALE:GREGORIAN
METHOD:PUBLISH
X-ORIGINAL-URL:https://rollinghillshog.co.uk
X-WR-CALDESC:Events for Rolling Hills Cheltenham - England
REFRESH-INTERVAL;VALUE=DURATION:PT1H
X-Robots-Tag:noindex
X-PUBLISHED-TTL:PT1H
BEGIN:VTIMEZONE
TZID:Europe/London
BEGIN:DAYLIGHT
TZOFFSETFROM:+0000
TZOFFSETTO:+0100
TZNAME:BST
DTSTART:20250330T010000
END:DAYLIGHT
BEGIN:STANDARD
TZOFFSETFROM:+0100
TZOFFSETTO:+0000
TZNAME:GMT
DTSTART:20251026T010000
END:STANDARD
BEGIN:DAYLIGHT
TZOFFSETFROM:+0000
TZOFFSETTO:+0100
TZNAME:BST
DTSTART:20260329T010000
END:DAYLIGHT
BEGIN:STANDARD
TZOFFSETFROM:+0100
TZOFFSETTO:+0000
TZNAME:GMT
DTSTART:20261025T010000
END:STANDARD
BEGIN:DAYLIGHT
TZOFFSETFROM:+0000
TZOFFSETTO:+0100
TZNAME:BST
DTSTART:20270328T010000
END:DAYLIGHT
BEGIN:STANDARD
TZOFFSETFROM:+0100
TZOFFSETTO:+0000
TZNAME:GMT
DTSTART:20271031T010000
END:STANDARD
END:VTIMEZONE
BEGIN:VEVENT
DTSTART;TZID=Europe/London:20260603T190000
DTEND;TZID=Europe/London:20260603T220000
DTSTAMP:20260425T223945
CREATED:20260222T171624Z
LAST-MODIFIED:20260222T171659Z
UID:1513-1780513200-1780524000@rollinghillshog.co.uk
SUMMARY:Chapter Night
DESCRIPTION:Location to be confirmed
URL:https://rollinghillshog.co.uk/diary/chapter-night-4/
LOCATION:Gloucestershire
END:VEVENT
BEGIN:VEVENT
DTSTART;TZID=Europe/London:20260612T000000
DTEND;TZID=Europe/London:20260614T235959
DTSTAMP:20260425T223945
CREATED:20251112T195548Z
LAST-MODIFIED:20251112T195548Z
UID:1278-1781222400-1781481599@rollinghillshog.co.uk
SUMMARY:The Rumble
DESCRIPTION:
URL:https://rollinghillshog.co.uk/diary/the-rumble-2/
LOCATION:Gloucestershire
END:VEVENT
BEGIN:VEVENT
DTSTART;TZID=Europe/London:20260620T093000
DTEND;TZID=Europe/London:20260620T163000
DTSTAMP:20260425T223945
CREATED:20251112T195727Z
LAST-MODIFIED:20260321T133238Z
UID:1280-1781947800-1781973000@rollinghillshog.co.uk
SUMMARY:Ride out
DESCRIPTION:Trevor & Rob
URL:https://rollinghillshog.co.uk/diary/ride-out-7/
LOCATION:Gloucestershire
END:VEVENT
BEGIN:VEVENT
DTSTART;TZID=Europe/London:20260623T190000
DTEND;TZID=Europe/London:20260623T200000
DTSTAMP:20260425T223945
CREATED:20260210T153136Z
LAST-MODIFIED:20260210T153136Z
UID:1482-1782241200-1782244800@rollinghillshog.co.uk
SUMMARY:Committee Meeting
DESCRIPTION:To be confirmed
URL:https://rollinghillshog.co.uk/diary/committee-meeting-13/
LOCATION:Gloucestershire
END:VEVENT
BEGIN:VEVENT
DTSTART;TZID=Europe/London:20260624T000000
DTEND;TZID=Europe/London:20260628T235959
DTSTAMP:20260425T223945
CREATED:20251112T195420Z
LAST-MODIFIED:20251112T195450Z
UID:1275-1782259200-1782691199@rollinghillshog.co.uk
SUMMARY:ABR
DESCRIPTION:
URL:https://rollinghillshog.co.uk/diary/the-rumble/
LOCATION:Gloucestershire
END:VEVENT
END:VCALENDAR