BEGIN:VCALENDAR
VERSION:2.0
PRODID:-//Rolling Hills Cheltenham - England - ECPv6.15.17.1//NONSGML v1.0//EN
CALSCALE:GREGORIAN
METHOD:PUBLISH
X-ORIGINAL-URL:https://rollinghillshog.co.uk
X-WR-CALDESC:Events for Rolling Hills Cheltenham - England
REFRESH-INTERVAL;VALUE=DURATION:PT1H
X-Robots-Tag:noindex
X-PUBLISHED-TTL:PT1H
BEGIN:VTIMEZONE
TZID:Europe/London
BEGIN:DAYLIGHT
TZOFFSETFROM:+0000
TZOFFSETTO:+0100
TZNAME:BST
DTSTART:20250330T010000
END:DAYLIGHT
BEGIN:STANDARD
TZOFFSETFROM:+0100
TZOFFSETTO:+0000
TZNAME:GMT
DTSTART:20251026T010000
END:STANDARD
BEGIN:DAYLIGHT
TZOFFSETFROM:+0000
TZOFFSETTO:+0100
TZNAME:BST
DTSTART:20260329T010000
END:DAYLIGHT
BEGIN:STANDARD
TZOFFSETFROM:+0100
TZOFFSETTO:+0000
TZNAME:GMT
DTSTART:20261025T010000
END:STANDARD
BEGIN:DAYLIGHT
TZOFFSETFROM:+0000
TZOFFSETTO:+0100
TZNAME:BST
DTSTART:20270328T010000
END:DAYLIGHT
BEGIN:STANDARD
TZOFFSETFROM:+0100
TZOFFSETTO:+0000
TZNAME:GMT
DTSTART:20271031T010000
END:STANDARD
END:VTIMEZONE
BEGIN:VEVENT
DTSTART;TZID=Europe/London:20260329T143000
DTEND;TZID=Europe/London:20260329T163000
DTSTAMP:20260425T194145
CREATED:20260225T092333Z
LAST-MODIFIED:20260225T092414Z
UID:1541-1774794600-1774801800@rollinghillshog.co.uk
SUMMARY:ladies Rugby Match
DESCRIPTION:looking at going to the Gloucester-Hartpury ladies rugby match against Leicester Tigers on Sunday March 29th\, at Kingsholm\, it is a 2:30pm kick off. If any of you are interested please purchase your tickets online or at the ticket office at Kingsholm. We can then look at meeting up for a drink in a pub either before or after the match. Nikki
URL:https://rollinghillshog.co.uk/diary/ladies-rugby-match-on-sunday-29th-march-at-230pm/
LOCATION:Gloucestershire
END:VEVENT
END:VCALENDAR