BEGIN:VCALENDAR
VERSION:2.0
PRODID:-//Rolling Hills Cheltenham - England - ECPv6.15.17.1//NONSGML v1.0//EN
CALSCALE:GREGORIAN
METHOD:PUBLISH
X-ORIGINAL-URL:https://rollinghillshog.co.uk
X-WR-CALDESC:Events for Rolling Hills Cheltenham - England
REFRESH-INTERVAL;VALUE=DURATION:PT1H
X-Robots-Tag:noindex
X-PUBLISHED-TTL:PT1H
BEGIN:VTIMEZONE
TZID:Europe/London
BEGIN:DAYLIGHT
TZOFFSETFROM:+0000
TZOFFSETTO:+0100
TZNAME:BST
DTSTART:20250330T010000
END:DAYLIGHT
BEGIN:STANDARD
TZOFFSETFROM:+0100
TZOFFSETTO:+0000
TZNAME:GMT
DTSTART:20251026T010000
END:STANDARD
BEGIN:DAYLIGHT
TZOFFSETFROM:+0000
TZOFFSETTO:+0100
TZNAME:BST
DTSTART:20260329T010000
END:DAYLIGHT
BEGIN:STANDARD
TZOFFSETFROM:+0100
TZOFFSETTO:+0000
TZNAME:GMT
DTSTART:20261025T010000
END:STANDARD
BEGIN:DAYLIGHT
TZOFFSETFROM:+0000
TZOFFSETTO:+0100
TZNAME:BST
DTSTART:20270328T010000
END:DAYLIGHT
BEGIN:STANDARD
TZOFFSETFROM:+0100
TZOFFSETTO:+0000
TZNAME:GMT
DTSTART:20271031T010000
END:STANDARD
END:VTIMEZONE
BEGIN:VEVENT
DTSTART;TZID=Europe/London:20260308T100000
DTEND;TZID=Europe/London:20260308T150000
DTSTAMP:20260425T194128
CREATED:20251112T194821Z
LAST-MODIFIED:20260225T093244Z
UID:1267-1772964000-1772982000@rollinghillshog.co.uk
SUMMARY:Breakfast at Trioscape + Ride
DESCRIPTION:Trioscape Garden Centre for breakfast at 10:00am. If you are on your bike then a short ride to Symonds Yat Rock to look at the view. We can extend the ride if weather is good. Can you let me know numbers (via Watsap or face book please) to book Table as it gets busy. \nGoogle Maps – Trioscape \n 
URL:https://rollinghillshog.co.uk/diary/breakfast-upton/
LOCATION:Gloucestershire
END:VEVENT
END:VCALENDAR