BEGIN:VCALENDAR
VERSION:2.0
PRODID:-//Rolling Hills Cheltenham - England - ECPv6.15.17.1//NONSGML v1.0//EN
CALSCALE:GREGORIAN
METHOD:PUBLISH
X-WR-CALNAME:Rolling Hills Cheltenham - England
X-ORIGINAL-URL:https://rollinghillshog.co.uk
X-WR-CALDESC:Events for Rolling Hills Cheltenham - England
REFRESH-INTERVAL;VALUE=DURATION:PT1H
X-Robots-Tag:noindex
X-PUBLISHED-TTL:PT1H
BEGIN:VTIMEZONE
TZID:Europe/London
BEGIN:DAYLIGHT
TZOFFSETFROM:+0000
TZOFFSETTO:+0100
TZNAME:BST
DTSTART:20240331T010000
END:DAYLIGHT
BEGIN:STANDARD
TZOFFSETFROM:+0100
TZOFFSETTO:+0000
TZNAME:GMT
DTSTART:20241027T010000
END:STANDARD
BEGIN:DAYLIGHT
TZOFFSETFROM:+0000
TZOFFSETTO:+0100
TZNAME:BST
DTSTART:20250330T010000
END:DAYLIGHT
BEGIN:STANDARD
TZOFFSETFROM:+0100
TZOFFSETTO:+0000
TZNAME:GMT
DTSTART:20251026T010000
END:STANDARD
BEGIN:DAYLIGHT
TZOFFSETFROM:+0000
TZOFFSETTO:+0100
TZNAME:BST
DTSTART:20260329T010000
END:DAYLIGHT
BEGIN:STANDARD
TZOFFSETFROM:+0100
TZOFFSETTO:+0000
TZNAME:GMT
DTSTART:20261025T010000
END:STANDARD
END:VTIMEZONE
BEGIN:VEVENT
DTSTART;TZID=Europe/London:20251122T093000
DTEND;TZID=Europe/London:20251123T150000
DTSTAMP:20260425T131723
CREATED:20250926T194104Z
LAST-MODIFIED:20250926T194249Z
UID:1195-1763803800-1763910000@rollinghillshog.co.uk
SUMMARY:SWG Nothe Fort Weymouth
DESCRIPTION:Heads up\, Going to add an out of season ride to the calendar soon to Weymouth around mid November. Standing with Giants have an installation at the Nothe Fort. Which should be impressive.\n\nWe’ll head down Saturday 22nd morning\, stay overnight (nice place out of town with carpark) and head back Sunday 23rd.  (Approx £80 inc breakfast)Here\n\nI know riding out of season is not everyone’s cuppa\, so happy to be joined down there and at the hotel by folks in cars (but those of us riding will make our own way).\n\nRather than flooding here\, send me a message if you’re interested in coming!\n\nhttps://nothefort.org.uk/events/standing-with-giants-falklands-tribute/?occurrence=2025-11-05
URL:https://rollinghillshog.co.uk/diary/swg-nothe-fort-weymouth/
LOCATION:Nothe Fort\, Nothe Fort\, Weymouth\, United Kingdom
END:VEVENT
END:VCALENDAR